BEGIN:VCALENDAR
VERSION:2.0
PRODID:-//https://enigma.metropoliapoznan.pl///NONSGML kigkonsult.se iCalcreator 2.10.15//
METHOD:PUBLISH
BEGIN:VEVENT
UID:20260425T033548CEST-9207G4l64u@https://enigma.metropoliapoznan.pl/
DTSTAMP:20260425T013548Z
DESCRIPTION:Rejestracja na webinar:&nbsp\;https://bit.ly/ENIGMAwebinar http
 s://enigma.metropoliapoznan.pl/kalendarium-wydarzen/wydarzenie/12-webinar-
 dla-nauczycieli-trenerow-druzyn
DTSTART:20230413T173000Z
DTEND:20230413T181500Z
LOCATION:Online ()
SUMMARY:Webinar dla Nauczycieli - trenerów drużyn
URL:https://enigma.metropoliapoznan.pl/kalendarium-wydarzen/wydarzenie/12-w
 ebinar-dla-nauczycieli-trenerow-druzyn
END:VEVENT
BEGIN:VEVENT
UID:20260425T033548CEST-9209M4UkkM@https://enigma.metropoliapoznan.pl/
DTSTAMP:20260425T013548Z
DESCRIPTION:Szkoły biorące udział w festiwalu: Liceum Ogólnokształcące nr I
 II w Poznaniu\,Liceum Ogólnokształcące nr VII w Poznaniu\,Liceum Ogólnoksz
 tałcące nr VIII w Poznaniu\,Liceum Ogólnokształcące im. św. Marii Magdalen
 y w Poznaniu\,I Liceum Ogólnokształcące im. Piotra Skargi w Szamotułach\,Z
 espół Szkół nr 2 w Szamotułach\,Szkoła Podstawowa nr 1 w Szamotułach\,Szko
 ła Podstawowa nr 3 w Szamotułach https://enigma.metropoliapoznan.pl/kalend
 arium-wydarzen/wydarzenie/13-metropolitalny-festiwal-nauki-enigma
DTSTART:20230419T063000Z
DTEND:20230428T123000Z
LOCATION:Uniwersytet Ekonomiczny w Poznaniu  (Al. Niepodległości 10\, 61-87
 5 Poznań)
SUMMARY:Metropolitalny Festiwal Nauki ENIGMA
URL:https://enigma.metropoliapoznan.pl/kalendarium-wydarzen/wydarzenie/13-m
 etropolitalny-festiwal-nauki-enigma
END:VEVENT
BEGIN:VEVENT
UID:20260425T033548CEST-9211UXZOUt@https://enigma.metropoliapoznan.pl/
DTSTAMP:20260425T013548Z
DESCRIPTION:Rejestracja na webinar:&nbsp\;https://bit.ly/ENIGMAwebinar http
 s://enigma.metropoliapoznan.pl/kalendarium-wydarzen/wydarzenie/14-webinar-
 dla-nauczycieli-trenerow-druzyn-ii-termin
DTSTART:20230417T173000Z
DTEND:20230417T181500Z
LOCATION:Online ()
SUMMARY:Webinar dla Nauczycieli - trenerów drużyn - II termin
URL:https://enigma.metropoliapoznan.pl/kalendarium-wydarzen/wydarzenie/14-w
 ebinar-dla-nauczycieli-trenerow-druzyn-ii-termin
END:VEVENT
BEGIN:VEVENT
UID:20260425T033548CEST-9212d4cVT8@https://enigma.metropoliapoznan.pl/
DTSTAMP:20260425T013548Z
DESCRIPTION:Więcej informacji oraz link do zapisów na podstronie Konkursy h
 ttps://enigma.metropoliapoznan.pl/kalendarium-wydarzen/wydarzenie/15-cyber
 liga-1-0
DTSTART:20230615T070000Z
DTEND:20230615T130000Z
LOCATION:VIII LO im. A. Mickiewicza w Poznaniu (Hipolita Cegielskiego 1\, 6
 1-862 Poznań)
SUMMARY:CYBERLIGA 1.0
URL:https://enigma.metropoliapoznan.pl/kalendarium-wydarzen/wydarzenie/15-c
 yberliga-1-0
END:VEVENT
BEGIN:VEVENT
UID:20260425T033548CEST-92138LV88T@https://enigma.metropoliapoznan.pl/
DTSTAMP:20260425T013548Z
DESCRIPTION:Więcej informacji oraz link do zapisów na podstronie Konkursy h
 ttps://enigma.metropoliapoznan.pl/kalendarium-wydarzen/wydarzenie/16-cyber
 liga-2-0
DTSTART:20230613T070000Z
DTEND:20230613T130000Z
LOCATION:VIII LO im. A. Mickiewicza w Poznaniu (Hipolita Cegielskiego 1\, 6
 1-862 Poznań)
SUMMARY:CYBERLIGA 2.0
URL:https://enigma.metropoliapoznan.pl/kalendarium-wydarzen/wydarzenie/16-c
 yberliga-2-0
END:VEVENT
BEGIN:VEVENT
UID:20260425T033548CEST-9214ILi82N@https://enigma.metropoliapoznan.pl/
DTSTAMP:20260425T013548Z
DESCRIPTION:Więcej informacji oraz link do zapisów na podstronie Konkursy h
 ttps://enigma.metropoliapoznan.pl/kalendarium-wydarzen/wydarzenie/17-metro
 politalna-liga-enigmy
DTSTART:20230530T070000Z
DTEND:20230615T130000Z
LOCATION:Wydział Matematyki i Informatyki  Uniwersytet im. Adama Mickiewicz
 a w Poznaniu (ul. Uniwersytetu Poznańskiego 4  61-614 Poznań)
SUMMARY:Metropolitalna Liga Enigmy
URL:https://enigma.metropoliapoznan.pl/kalendarium-wydarzen/wydarzenie/17-m
 etropolitalna-liga-enigmy
END:VEVENT
BEGIN:VEVENT
UID:20260425T033548CEST-9215h7Ep2R@https://enigma.metropoliapoznan.pl/
DTSTAMP:20260425T013548Z
DESCRIPTION: https://enigma.metropoliapoznan.pl/kalendarium-wydarzen/wydarz
 enie/18-metropolitarne-targi-pracy-i-edukacji
DTSTART:20230621T102600Z
DTEND:20230622T122600Z
LOCATION: (Garbary 24\, 61-867 Poznań\, Wielkopolskie)
SUMMARY:Metropolitarne Targi Pracy i Edukacji
URL:https://enigma.metropoliapoznan.pl/kalendarium-wydarzen/wydarzenie/18-m
 etropolitarne-targi-pracy-i-edukacji
END:VEVENT
END:VCALENDAR
